BEGIN:VCALENDAR
VERSION:2.0
PRODID:spatie/icalendar-generator
DESCRIPTION:パティスリーアンベリー[静岡県菊川市のケー
 キ・焼き菓子なら]のイベント
X-WR-CALDESC:パティスリーアンベリー[静岡県菊川市のケー
 キ・焼き菓子なら]のイベント
REFRESH-INTERVAL;VALUE=DURATION:PT1440M
X-PUBLISHED-TTL:PT1440M
BEGIN:VTIMEZONE
TZID:Asia/Tokyo
BEGIN:STANDARD
DTSTART:20241111T173000Z
TZOFFSETFROM:+0900
TZOFFSETTO:+0900
END:STANDARD
END:VTIMEZONE
BEGIN:VTIMEZONE
TZID:UTC
BEGIN:STANDARD
DTSTART:20250724T085934Z
TZOFFSETFROM:+0000
TZOFFSETTO:+0000
END:STANDARD
END:VTIMEZONE
BEGIN:VEVENT
UID:369-342
DTSTAMP:20260420T085934Z
SUMMARY:菊川夜店市
LOCATION:
ORGANIZER;CN=パティスリーアンベリー:MAILTO:p.embellir@gmail.com
DTSTART;TZID=Asia/Tokyo:20250808T173000
DTEND;TZID=Asia/Tokyo:20250809T203000
X-ALT-DESC;FMTTYPE=TEXT/HTML:菊川夜店市に出店します。 パティ
 シエの窯出しクロワッサン、昔懐かしプリンを販売予
 定。 皆様のご来店お待ちしてお&amp;hellip\;
CATEGORIES:出店情報
URL;VALUE=URI:https://p-embellir.jp/my-calendar/?mc_id=369&#038;vcal=369
METHOD:PUBLISH
END:VEVENT
END:VCALENDAR